BEGIN:VCALENDAR
VERSION:2.0
PRODID:-//https://kmu-digital.eu///NONSGML kigkonsult.se iCalcreator 2.10.15//
METHOD:PUBLISH
BEGIN:VEVENT
UID:20260420T140305CEST-6270Cihd4v@https://kmu-digital.eu/
DTSTAMP:20260420T120305Z
DESCRIPTION:\n\n\nMit der digitalen Transformation\, der Fokussierung auf e
 ine gute Work-Life-Balance und der Entwicklung des Konzepts New Work brech
 en neue Zeiten an. Deshalb steht die 5. Innovation Night unter dem Motto Z
 eitenwende. Freuen Sie sich auf fesselnde Impulsvorträge\, Diskussionen üb
 er das Thema New Work im Schwarzwald-Baar-Heuberg\, die Vorstellung von St
 art-up-Pitches und einmalige Networking-Gelegenheiten. Egal\, ob Sie Gründ
 er:in\, ein kreativer Kopf oder ein etabliertes Unternehmen sind – diese V
 eranstaltung bietet Inspiration und Austausch für alle.\n\n\n\nDie Veranst
 altung findet am 16. April 2024 von 16:00 bis 21:00 Uhr im Uhrenindustriem
 useum\, Bürkstraße 39\, 78054 Villingen-Schwenningen\, Deutschland statt. 
 Die Teilnahme ist kostenlos. Eine Anmeldung bis zum 15. April 2024 ist erf
 orderlich.&nbsp\;\nMehr Informationen finden Sie hier ...\nHier geht es zu
 r Anmeldung.\n https://kmu-digital.eu/de/service-kompetenz/veranstaltungen
 /veranstaltungskalender/event/2780-innovation-night
DTSTART:20240416T140000Z
DTEND:20240416T190000Z
LOCATION:Lebendiges Uhrenindustriemuseum Villingen-Schwenningen (Bürkstraße
  39\, 78054 Villingen-Schwenningen\, Deutschland)
SUMMARY:Innovation Night 
URL:https://kmu-digital.eu/de/service-kompetenz/veranstaltungen/veranstaltu
 ngskalender/event/2780-innovation-night
END:VEVENT
END:VCALENDAR
