BEGIN:VCALENDAR
VERSION:2.0
PRODID:-//https://kmu-digital.eu///NONSGML kigkonsult.se iCalcreator 2.10.15//
METHOD:PUBLISH
BEGIN:VEVENT
UID:20260420T152444CEST-31730wVWrh@https://kmu-digital.eu/
DTSTAMP:20260420T132444Z
DESCRIPTION:In dieser Web-Seminar-Reihe werden verschiedene Potentiale und 
 Beiträge von Industrie 4.0 zu nachhaltigem Wirtschaften aufgegriffen und m
 it Praxisbeispielen begleitet. Zum Auftakt knüpft dieses Web-Seminar an di
 e Publikation „Zehn Thesen\, wie digitale Geschäftsmodelle Nachhaltigkeit 
 in der Industrie 4.0 fördern“ der Arbeitsgruppe „Digitale Geschäftsmodelle
 “ an.\nModeration: Janina Henning\, Community Managerin für Nachhaltigkeit
  in der Geschäftsstelle der Plattform Industrie 4.0\nAgenda:Impuls zu Indu
 strie 4.0 und Nachhaltigkeit: Prof. Dr. Peter Post\, Vice President Festo 
 SE & Co. KG & Leiter der Task Force Industrie 4.0 & Nachhaltigkeit der Pla
 ttformEinblicke in die Praxis:Digitale Plattform zur Verschnitt Nutzung - 
 Johannes Heereman\, CEO NormcutPay per Use mit smarter Druckluftversorgung
  - Helen Landhäußer\, Head of Sales Looxr GmbHDiskussion\nAnmeldung\nWeite
 re Informationen zur Veranstaltung finden Sie hier... https://kmu-digital.
 eu/de/service-kompetenz/veranstaltungen/veranstaltungskalender/event/2381-
 industrie-4-0-und-nachhaltigkeit-digitale-und-nachhaltige-geschaeftsmodell
 e-in-der-praxis
DTSTART:20211021T061500Z
DTEND:20211021T070000Z
LOCATION: Online an Ihrem PC oder Laptop ()
SUMMARY:Industrie 4.0 und Nachhaltigkeit  –  Digitale und nachhaltige Gesch
 äftsmodelle in der Praxis-
URL:https://kmu-digital.eu/de/service-kompetenz/veranstaltungen/veranstaltu
 ngskalender/event/2381-industrie-4-0-und-nachhaltigkeit-digitale-und-nachh
 altige-geschaeftsmodelle-in-der-praxis
END:VEVENT
END:VCALENDAR
