BEGIN:VCALENDAR
VERSION:2.0
PRODID:-//https://kmu-digital.eu///NONSGML kigkonsult.se iCalcreator 2.10.15//
METHOD:PUBLISH
BEGIN:VEVENT
UID:20260420T135647CEST-8901mH1bce@https://kmu-digital.eu/
DTSTAMP:20260420T115647Z
DESCRIPTION:Erfahren Sie während 90 Minuten wie Sie Ihr Einzelunternehmen\,
  Ihre GmbH\, AG oder Kollektivgesellschaft mit EasyGov gründen.\nMartin Eg
 ger von EasyGov.swiss stellt Ihnen den neuen Online-Schalter des Bundes vo
 r und zeigt Ihnen anhand eines Beispielunternehmens\, wie Sie damit ganz e
 infach Ihre Gründungsunterlagen erstellen.\nLernziele:- Sie kennen EasyGov
  und wissen\, wofür Sie es einsetzen können. - Sie kennen den Gründungspro
 zess von EasyGov und sind fähig\, Ihre Gründungsunterlagen online zu erste
 llen.\nDie Teilnahme ist kostenlos.\nAnmeldung\nWeitere Informationen zur 
 Veranstaltung finden Sie hier... https://kmu-digital.eu/de/service-kompete
 nz/veranstaltungen/veranstaltungskalender/event/2365-easygov-online-gruend
 en
DTSTART:20211021T150000Z
DTEND:20211021T163000Z
LOCATION: Online an Ihrem PC oder Laptop ()
SUMMARY:EasyGov: Online Gründen 
URL:https://kmu-digital.eu/de/service-kompetenz/veranstaltungen/veranstaltu
 ngskalender/event/2365-easygov-online-gruenden
END:VEVENT
END:VCALENDAR
