BEGIN:VCALENDAR
VERSION:2.0
PRODID:-//https://kmu-digital.eu///NONSGML kigkonsult.se iCalcreator 2.10.15//
METHOD:PUBLISH
BEGIN:VEVENT
UID:20260420T140122CEST-7016UpRI97@https://kmu-digital.eu/
DTSTAMP:20260420T120122Z
DESCRIPTION:Die ERP Future ist eine führende Fachveranstaltung für Enterpri
 se Systems im deutschsprachigen Raum\, bei der Anwender*innen und Anbieter
 *innen in einem objektiven Rahmen zusammentreffen\, um aktuelle Entwicklun
 gen im Enterprise Systems-Sektor zu diskutieren.\nDie ERP Future bietet An
 wender*innen und Entscheidungsträger*innen eine hervorragende Möglichkeit 
 und Plattform\, sich einen Überblick über das Kernthema Enterprise Resourc
 e Planning (ERP) und über die Themenfelder rund um Business Intelligence (
 BI)\, Business Process Management (BPM)\, CustomerRelationshipManagement (
 CRM) und Supply Chain Management (SCM) zu verschaffen.\nProgramm\nWas erwa
 rtet Sie? - Networking- Fachvorträge- Objektiver Rahmen- Get-together\nKos
 tenlose Teilnahmemöglichkeitfür ERP-Anwender mit Gutschein-Code!\nAnmeldef
 ormular\nWeitere Informationen zur Veranstaltung finden Sie hier... https:
 //kmu-digital.eu/de/service-kompetenz/veranstaltungen/veranstaltungskalend
 er/event/2263-erp-future-fachveranstaltung
DTSTART;VALUE=DATE:20210921
LOCATION:Hochschulstraße 1\, A-6850 Dornbirn (Hochschulstraße 1\, 6850 Dorn
 birn\, Österreich)
SUMMARY:ERP Future Fachveranstaltung
URL:https://kmu-digital.eu/de/service-kompetenz/veranstaltungen/veranstaltu
 ngskalender/event/2263-erp-future-fachveranstaltung
END:VEVENT
END:VCALENDAR
