BEGIN:VCALENDAR
VERSION:2.0
PRODID:-//https://kmu-digital.eu///NONSGML kigkonsult.se iCalcreator 2.10.15//
METHOD:PUBLISH
BEGIN:VEVENT
UID:20260421T042341CEST-7104II5KPs@https://kmu-digital.eu/
DTSTAMP:20260421T022341Z
DESCRIPTION:Das Digitale Zukunftszentrum Allgäu-Oberschwaben ist eine innov
 ative Digital-Werkstatt und ein Kompetenzzentrum für digitale Transformati
 on.\nEs bietet eine branchenübergreifende Entwicklungsumgebung für Betrieb
 e und Unternehmen aller Größen.\nThemenpunkte der Veranstaltung:\n- Digita
 lisierung in Marketing\, Vertrieb und Produktion- Digitale Wissensvermittl
 ung und Qualifizierung- Künstliche Intelligenz- Austausch- und Netzwerkpla
 ttform\nAnmeldung\nWeitere Informationen finden Sie hier... https://kmu-di
 gital.eu/de/service-kompetenz/veranstaltungen/veranstaltungskalender/event
 /2224-einsatz-von-ki-im-online-marketing-und-sales
DTSTART:20210617T140000Z
DTEND:20210617T160000Z
LOCATION: Online an Ihrem PC oder Laptop ()
SUMMARY: Einsatz von KI im Online-Marketing und Sales
URL:https://kmu-digital.eu/de/service-kompetenz/veranstaltungen/veranstaltu
 ngskalender/event/2224-einsatz-von-ki-im-online-marketing-und-sales
END:VEVENT
END:VCALENDAR
