BEGIN:VCALENDAR
VERSION:2.0
PRODID:-//https://kmu-digital.eu///NONSGML kigkonsult.se iCalcreator 2.10.15//
METHOD:PUBLISH
BEGIN:VEVENT
UID:20260421T042340CEST-70979oSdCG@https://kmu-digital.eu/
DTSTAMP:20260421T022340Z
DESCRIPTION:Die Insolvenz von Geschäftspartnern kann zur Zahlungsunfähigkei
 t eines Unternehmens führen und dessen Existenz bedrohen. Es stellt sich d
 ie Frage\, wie man mit dem Thema „Insolvenzen bei Partnern“ umgeht.\nIn di
 eser kostenfreien Online-Veranstaltung werden die wesentlichen Kern-Themen
  für die Interessenwahrnehmung von Gläubigern gegenüber dem Kunden oder Li
 eferanten im Insolvenzverfahren erläutert.\nProgramm:15:00 Uhr: Einloggen 
 und Begrüßung15:05 Uhr: Wahrnehmung von Gläubigerrechten in der Insolvenz&
 nbsp\;&nbsp\;&nbsp\;&nbsp\;&nbsp\;&nbsp\;&nbsp\;&nbsp\;&nbsp\;&nbsp\;&nbsp
 \;&nbsp\;&nbsp\;&nbsp\;&nbsp\;&nbsp\;&nbsp\;&nbsp\;&nbsp\; Bilanzierung un
 d Liquiditätsgenerierung in der Insolvenz&nbsp\;&nbsp\;&nbsp\;&nbsp\;&nbsp
 \;&nbsp\;&nbsp\;&nbsp\;&nbsp\;&nbsp\;&nbsp\;&nbsp\;&nbsp\;&nbsp\;&nbsp\;&n
 bsp\;&nbsp\;&nbsp\;&nbsp\; Wahrnehmung von Gläubigerrechten&nbsp\;&nbsp\;&
 nbsp\;&nbsp\;&nbsp\;&nbsp\;&nbsp\;&nbsp\;&nbsp\;&nbsp\;&nbsp\;&nbsp\;&nbsp
 \;&nbsp\;&nbsp\;&nbsp\;&nbsp\;&nbsp\;&nbsp\; Die richtige Forderungsanmeld
 ung und mögliche Probleme&nbsp\;&nbsp\;&nbsp\;&nbsp\;&nbsp\;&nbsp\;&nbsp\;
 &nbsp\;&nbsp\;&nbsp\;&nbsp\;&nbsp\;&nbsp\;&nbsp\;&nbsp\;&nbsp\;&nbsp\;&nbs
 p\;&nbsp\; Vorsicht Anfechtungsfalle16:30 Uhr: Ende der Online-Veranstaltu
 ng\nReferent:Robert Buchalik\nZielgruppe:Geschäftsführer\, Prokuristen\, G
 esellschafter\, Inhaber\, Unternehmer\, Geschäftsführer\, Prokuristen\, Fü
 hrungskräfte\nAnmeldung\nWeitere Informationen zur Veranstaltung finden Si
 e hier... https://kmu-digital.eu/de/service-kompetenz/veranstaltungen/vera
 nstaltungskalender/event/2207-wahrnehmung-von-glaeubigerrechten-in-der-ins
 olvenz
DTSTART:20210623T130000Z
DTEND:20210623T143000Z
LOCATION: Online an Ihrem PC oder Laptop ()
SUMMARY:Wahrnehmung von Gläubigerrechten in der Insolvenz
URL:https://kmu-digital.eu/de/service-kompetenz/veranstaltungen/veranstaltu
 ngskalender/event/2207-wahrnehmung-von-glaeubigerrechten-in-der-insolvenz
END:VEVENT
END:VCALENDAR
