BEGIN:VCALENDAR
VERSION:2.0
PRODID:-//https://kmu-digital.eu///NONSGML kigkonsult.se iCalcreator 2.10.15//
METHOD:PUBLISH
BEGIN:VEVENT
UID:20260421T060712CEST-0483GUa2M8@https://kmu-digital.eu/
DTSTAMP:20260421T040712Z
DESCRIPTION:Bei der Veranstaltung informieren und diskutieren mit Ihnen ein
 geladene Expert*innen über aktuelle und anwendungsnahe Themen im Bereich I
 PR (Intellectual Property Rights).\nProgramm:\n- Begrüßung WISTO - Umfrage
  Teilnehmer*innenInnen - Kurzvortrag zu Schutzrechten - Q&A zum Kurzvortra
 g - Vortrag zu Patenten und Gebrauchsmustern (ca. 45 Minuten) - Q&A zum Vo
 rtrag - Networking über wonder.me\nVortragender: Dr. Ralf Hofmann\, Patent
 anwälte Hofmann & Fechner\nZielgruppe: Mitarbeitende aus F&E Abteilungen\,
  Techniker*innen\, Start-ups\, Gründer*innen\nEine kostenlose Anmeldung is
 t erforderlich.\nWeitere Informationen zur Veranstaltung finden Sie hier..
 . https://kmu-digital.eu/de/service-kompetenz/veranstaltungen/veranstaltun
 gskalender/event/2202-ipr-seminarreihe-teil-1-4-patent-und-gebrauchsmuster
DTSTART:20210527T133000Z
DTEND:20210527T150000Z
LOCATION: Online an Ihrem PC oder Laptop ()
SUMMARY:IPR Seminarreihe\, Teil 1 / 4: Patent- und Gebrauchsmuster
URL:https://kmu-digital.eu/de/service-kompetenz/veranstaltungen/veranstaltu
 ngskalender/event/2202-ipr-seminarreihe-teil-1-4-patent-und-gebrauchsmuste
 r
END:VEVENT
END:VCALENDAR
