BEGIN:VCALENDAR
VERSION:2.0
PRODID:-//https://kmu-digital.eu///NONSGML kigkonsult.se iCalcreator 2.10.15//
METHOD:PUBLISH
BEGIN:VEVENT
UID:20260421T074357CEST-6254eJsa6V@https://kmu-digital.eu/
DTSTAMP:20260421T054357Z
DESCRIPTION:DIGITALISIERUNG - Same\, same but different\nDas Ostschweizer F
 ood Forum wird vom Kompetenznetzwerk Ernährungswirtschaft und der Agro Mar
 keting Thurgau AG gemeinschaftlich organisiert. Es wird unterstützt von de
 r Wirtschaftsförderung des Kantons Thurgau.\nAn der neunten Durchführung d
 es Forum steht das aktuelle Thema «Digitalisierung» im Mittelpunkt.\nProgr
 amm:13:30 Uhr: Eintreffen und Kaffee14:00 Uhr: Begrüßung&nbsp\; &nbsp\; &n
 bsp\; &nbsp\; &nbsp\; &nbsp\; &nbsp\; &nbsp\; &nbsp\;&nbsp\;Was der Corona
 -Virus für Messeveranstalter bedeutet&nbsp\; &nbsp\; &nbsp\; &nbsp\; &nbsp
 \; &nbsp\; &nbsp\; &nbsp\; &nbsp\;&nbsp\;Wie die Veranstalter in der digit
 alen Welt die Kontrolle über unser Essen behalten&nbsp\; &nbsp\; &nbsp\; &
 nbsp\; &nbsp\; &nbsp\; &nbsp\; &nbsp\; &nbsp\;&nbsp\;Talk: «Auf den digita
 len Teller geschaut»&nbsp\; &nbsp\; &nbsp\; &nbsp\; &nbsp\; &nbsp\; &nbsp\
 ; &nbsp\; &nbsp\; Say Cheese: Digitale Degustation15:30 Uhr: Pause&nbsp\;&
 nbsp\; &nbsp\; &nbsp\; &nbsp\; &nbsp\; &nbsp\; &nbsp\; &nbsp\; &nbsp\;&nbs
 p\;Digitalisierung in der Gastronomie und Foodsystem 4.0&nbsp\; &nbsp\; &n
 bsp\; &nbsp\; &nbsp\; &nbsp\; &nbsp\; &nbsp\; &nbsp\;&nbsp\;Frisch bis Lad
 enschluss - Produktionsoptimierung reduziert Food Waste17:00 Uhr:&nbsp\;Ap
 éro und Ausklang\nAnmeldeformular\nWeitere Informationen zur Veranstaltung
  und zum Programm finden Sie hier...\n&nbsp\; https://kmu-digital.eu/de/se
 rvice-kompetenz/veranstaltungen/veranstaltungskalender/event/2188-9-ostsch
 weizer-food-forum
DTSTART:20210527T113000Z
DTEND:20210527T150000Z
LOCATION: Online an Ihrem PC oder Laptop ()
SUMMARY:9. Ostschweizer Food Forum
URL:https://kmu-digital.eu/de/service-kompetenz/veranstaltungen/veranstaltu
 ngskalender/event/2188-9-ostschweizer-food-forum
END:VEVENT
END:VCALENDAR
