BEGIN:VCALENDAR
VERSION:2.0
PRODID:-//https://kmu-digital.eu///NONSGML kigkonsult.se iCalcreator 2.10.15//
METHOD:PUBLISH
BEGIN:VEVENT
UID:20260420T124928CEST-5165NdrGv3@https://kmu-digital.eu/
DTSTAMP:20260420T104928Z
DESCRIPTION:Inspirierende Leitstellen und Podiumsdiskussionen\, Networking-
 Möglichkeiten und Informationen aus erster Hand zum Interreg Alpine Space 
 2021-2027 werden die Entwicklung von Ideen und Partnerschaften für die Zus
 ammenarbeit in den Alpen fördern. Verpassen Sie nicht die Gelegenheit\, mö
 gliche zukünftige Partner kennenzulernen und/oder mehr über zukünftige Pro
 grammprioritäten zu erfahren!\nThema: Wie können wir soziale Innovation fü
 r eine grüne und integrative Erholung im Alpenraum fördern?\nDas Programm 
 der Sitzungen befindet sich derzeit in der Entwicklung. Offizielle Einladu
 ngs- und Registrierungsinformationen werden Mitte April auf dieser Seite v
 eröffentlicht. Bleiben Sie dran!\nDie Veranstaltung findet in englischer S
 prache statt.\nWeitere Informationen finden Sie hier... https://kmu-digita
 l.eu/de/service-kompetenz/veranstaltungen/veranstaltungskalender/event/218
 2-connect-alpine-space-2021-soziale-innovation
DTSTART:20210512T120000Z
DTEND:20210512T140000Z
LOCATION: Online an Ihrem PC oder Laptop ()
SUMMARY:Connect Alpine Space 2021 + Soziale Innovation
URL:https://kmu-digital.eu/de/service-kompetenz/veranstaltungen/veranstaltu
 ngskalender/event/2182-connect-alpine-space-2021-soziale-innovation
END:VEVENT
END:VCALENDAR
