BEGIN:VCALENDAR
VERSION:2.0
PRODID:-//https://kmu-digital.eu///NONSGML kigkonsult.se iCalcreator 2.10.15//
METHOD:PUBLISH
BEGIN:VEVENT
UID:20260421T074442CEST-0030x9pGvz@https://kmu-digital.eu/
DTSTAMP:20260421T054442Z
DESCRIPTION:Die eigene wirtschaftliche Stabilität ist für Unternehmen wicht
 ig. Darüber hinaus ist das Ziel aber Wachstum und sich am Markt weiter dur
 chzusetzen. Nur so ist langfristiger unternehmerischer Erfolg möglich.\nDi
 e meisten Unternehmer wünschen sich daher wirksamere Wege\, ihren Umsatz z
 u erhöhen – um hiermit entweder mehr Stabilität oder mehr Wachstum zu erzi
 elen.\nWelche Goldmine 90% aller KMU-Unternehmen vernachlässigen? Wie Ihre
  potenziellen Kunden kaum Nein sagen können? Welchen Wert Sie kennen müsse
 n\, um gute Marketingentscheidungen zu treffen? Wie Sie über Fürsprecher d
 ie besten Kunden gewinnen? Wie Sie kostenfreie Werbung bekommen?\nDiese Fr
 agen sind Inhalt der kommenden Veranstaltung.\nZielgruppe: Geschäftsführer
 \, Prokuristen\, Gesellschafter\, Inhaber\, Unternehmer\, Führungskräfte\n
 Die Teilnahme ist kostenfrei.\nAnmeldung\nWeitere Informationen zur Verans
 taltung finden Sie hier... https://kmu-digital.eu/de/service-kompetenz/ver
 anstaltungen/veranstaltungskalender/event/2160-mehr-stabilitaet-und-umsatz
 -wachstums-strategien-mit-hebelwirkung
DTSTART:20210415T140000Z
DTEND:20210415T160000Z
LOCATION: Online an Ihrem PC oder Laptop ()
SUMMARY:Mehr Stabilität und Umsatz: Wachstums-Strategien mit Hebelwirkung
URL:https://kmu-digital.eu/de/service-kompetenz/veranstaltungen/veranstaltu
 ngskalender/event/2160-mehr-stabilitaet-und-umsatz-wachstums-strategien-mi
 t-hebelwirkung
END:VEVENT
END:VCALENDAR
