BEGIN:VCALENDAR
VERSION:2.0
PRODID:-//https://kmu-digital.eu///NONSGML kigkonsult.se iCalcreator 2.10.15//
METHOD:PUBLISH
BEGIN:VEVENT
UID:20260421T092917CEST-2470BjlpwT@https://kmu-digital.eu/
DTSTAMP:20260421T072917Z
DESCRIPTION:Mit der Initiierung und Organisation von Veranstaltungen bietet
  dasBIC einen Rahmen für die Vernetzung sowie den gegenseitigen Austausch 
 von Know-How aus Wissenschaft\,Wirtschaft und Gesellschaft.\n&nbsp\;\nAuft
 akt der Bearbeitung des Schwerpunkts Digitale Führung bildet eine halbtägi
 ge Digital-Konferenz derZeppelin Universität\, die ca. 150 Teilnehmer aus 
 Wirtschaft\, Wissenschaft und Gesellschaft versammelt undeine Plattform zu
 m gegenseitigen Austausch bietet.\n&nbsp\;\nFür Unternhemen ist es wichtig
 \, sich mit den Veränderungen der Arbeitswelt auseinanderzusetzen. Wie kan
 n der Wandel in den Unternehmen gestaltet werden\, um diesen disruptiven P
 rozess mit Erfolg zu bewältigen?\n&nbsp\;\nThema der Konferenz:\n1. Digita
 l Strategy : Klare Zielsetzung und Strategie2. Digital Culture : Veränderu
 ng der Unternehmenskultur3. Digital Skills : Digitale Kompetenzen entwicke
 ln und fördern4. Digital Stakeholder-Management : Führung und (Selbst- )Or
 ganisation von Netzwerkakteuren\n&nbsp\;\nAnmeldung:&nbsp\;sabine.wiesmuel
 ler@zu.de\nWeitere Informationen zur Konferenz finden Sie Hier. https://km
 u-digital.eu/de/service-kompetenz/veranstaltungen/veranstaltungskalender/e
 vent/2150-fruehjahreskonferenz-digitale-fuehrung-und-wissensmanagement
DTSTART:20210319T120000Z
DTEND:20210319T160000Z
LOCATION: Online an Ihrem PC oder Laptop ()
SUMMARY:Frühjahreskonferenz: 'Digitale Führung und Wissensmanagement'
URL:https://kmu-digital.eu/de/service-kompetenz/veranstaltungen/veranstaltu
 ngskalender/event/2150-fruehjahreskonferenz-digitale-fuehrung-und-wissensm
 anagement
END:VEVENT
END:VCALENDAR
