BEGIN:VCALENDAR
VERSION:2.0
PRODID:-//https://kmu-digital.eu///NONSGML kigkonsult.se iCalcreator 2.10.15//
METHOD:PUBLISH
BEGIN:VEVENT
UID:20260421T090440CEST-8892GstTou@https://kmu-digital.eu/
DTSTAMP:20260421T070440Z
DESCRIPTION:&nbsp\;Bei den Studientagen #DIGITAL stellen wir unser Studiena
 ngebot vor und informieren in interaktiven Formaten zu Themen rund um das 
 Studium - bequem von zuhause oder von der Schule aus.\nMit der Teilnahme a
 n unseren Formaten im Rahmen der Studientage #DIGITAL und Zutritt zu den v
 irtuellen Räumen bestätigen Sie\, unsere Datenschutzerklärung hierzu zur K
 enntnis genommen zu haben:\nDatenschutzerklärung Konferenz-Tool 'Webex':&n
 bsp\;https://www.htwg-konstanz.de/fileadmin/pub/ou/rz/E-Learning/DSH_WebEX
 .pdf\nAnmeldung:&nbsp\;https://www.htwg-konstanz.de/studium/studieninfotag
 -digital/anmeldung/\nWeitere Informationen zur Veranstaltung und zum Progr
 amm finden Sie Hier.\n&nbsp\;\n&nbsp\; https://kmu-digital.eu/de/service-k
 ompetenz/veranstaltungen/veranstaltungskalender/event/2149-digitale-studie
 ntage
DTSTART:20210310T070000Z
DTEND:20210310T173000Z
LOCATION: Online an Ihrem PC oder Laptop ()
SUMMARY:Digitale Studientage 
URL:https://kmu-digital.eu/de/service-kompetenz/veranstaltungen/veranstaltu
 ngskalender/event/2149-digitale-studientage
END:VEVENT
END:VCALENDAR
