BEGIN:VCALENDAR
VERSION:2.0
PRODID:-//https://kmu-digital.eu///NONSGML kigkonsult.se iCalcreator 2.10.15//
METHOD:PUBLISH
BEGIN:VEVENT
UID:20260421T090440CEST-3991Xb25Tm@https://kmu-digital.eu/
DTSTAMP:20260421T070440Z
DESCRIPTION:Bei den Studientagen #DIGITAL stellen wir unser Studienangebot 
 vor und informieren in interaktiven Formaten zu Themen rund um das Studium
  - bequem von zuhause oder von der Schule aus.\nMit der Teilnahme an unser
 en Formaten im Rahmen der Studientage #DIGITAL und Zutritt zu den virtuell
 en Räumen bestätigen Sie\, unsere Datenschutzerklärung hierzu zur Kenntnis
  genommen zu haben:\nDatenschutzerklärung Konferenz-Tool 'Webex':&nbsp\;ht
 tps://www.htwg-konstanz.de/fileadmin/pub/ou/rz/E-Learning/DSH_WebEX.pdf\nA
 nmeldung:&nbsp\;https://www.htwg-konstanz.de/studium/studieninfotag-digita
 l/anmeldung/\nWeitere Informationen zur Veranstaltung und zum Programm fin
 den Sie Hier.\n&nbsp\;\n&nbsp\; https://kmu-digital.eu/de/service-kompeten
 z/veranstaltungen/veranstaltungskalender/event/2148-digitale-studientage
DTSTART:20210309T070000Z
DTEND:20210309T173000Z
LOCATION: Online an Ihrem PC oder Laptop ()
SUMMARY:Digitale Studientage 
URL:https://kmu-digital.eu/de/service-kompetenz/veranstaltungen/veranstaltu
 ngskalender/event/2148-digitale-studientage
END:VEVENT
END:VCALENDAR
