BEGIN:VCALENDAR
VERSION:2.0
PRODID:-//https://kmu-digital.eu///NONSGML kigkonsult.se iCalcreator 2.10.15//
METHOD:PUBLISH
BEGIN:VEVENT
UID:20260421T093011CEST-0567UwH8F1@https://kmu-digital.eu/
DTSTAMP:20260421T073011Z
DESCRIPTION:Ein Kaleidoskop erinnert an wechselnde Muster. Es vermittelt di
 e Idee\, dass Muster aus vielen Dingen entstehen und von diesen beeinfluss
 t werden können\, die mit unserer Perspektive variieren und sich im Laufe 
 der Zeit ändern.\nTEDx ist ein Programm mit lokalen\, sebstorganisierten V
 eranstaltungen\, welches Leute zusammenbringt.\nAgenda:&nbsp\;\nPatterns o
 f interactions underlying social issuesTalk 1: Anke Hoeffler – What are th
 e patterns of violence and how can they be changedTalk 2: Maike Sippel – F
 rom knowledge to meaningful action against climate change\nPartner der die
 sjährigen Veranstaltung ist cyberLago.\nWeitere Informationen zur Veransta
 ltung finden Sie Hier. https://kmu-digital.eu/de/service-kompetenz/veranst
 altungen/veranstaltungskalender/event/2147-tedxkonstanz-kaleidoscope-patte
 rns-in-nature-and-society
DTSTART:20210305T160000Z
DTEND:20210305T170000Z
LOCATION: Online an Ihrem PC oder Laptop ()
SUMMARY:TEDxKonstanz: Kaleidoscope – Patterns in Nature and Society
URL:https://kmu-digital.eu/de/service-kompetenz/veranstaltungen/veranstaltu
 ngskalender/event/2147-tedxkonstanz-kaleidoscope-patterns-in-nature-and-so
 ciety
END:VEVENT
END:VCALENDAR
