BEGIN:VCALENDAR
VERSION:2.0
PRODID:-//https://kmu-digital.eu///NONSGML kigkonsult.se iCalcreator 2.10.15//
METHOD:PUBLISH
BEGIN:VEVENT
UID:20260421T105611CEST-0360ciDZSb@https://kmu-digital.eu/
DTSTAMP:20260421T085611Z
DESCRIPTION:Ein Kaleidoskop erinnert an wechselnde Muster. Es vermittelt di
 e Idee\, dass Muster aus vielen Dingen entstehen und von diesen beeinfluss
 t werden können\, die mit unserer Perspektive variieren und sich im Laufe 
 der Zeit ändern.\nTEDx ist ein Programm mit lokalen\, sebstorganisierten V
 eranstaltungen\, welches Leute zusammenbringt.\nAgenda:&nbsp\;\nAlgorithms
  of complexity: building patterns from the bottom upTalk 1: Helena Sarin –
  Making pictures with artificial intelligence Talk 2: Naomi Leonard – Floc
 k logic: how groups move in nature\, by design\, and on stage\nPartner der
  diesjährigen Veranstaltung ist cyberLago.\nWeitere Informationen zur Vera
 nstaltung finden Sie Hier. https://kmu-digital.eu/de/service-kompetenz/ver
 anstaltungen/veranstaltungskalender/event/2146-tedxkonstanz-kaleidoscope-p
 atterns-in-nature-and-society
DTSTART:20210304T160000Z
DTEND:20210304T170000Z
LOCATION: Online an Ihrem PC oder Laptop ()
SUMMARY:TEDxKonstanz: Kaleidoscope – Patterns in Nature and Society
URL:https://kmu-digital.eu/de/service-kompetenz/veranstaltungen/veranstaltu
 ngskalender/event/2146-tedxkonstanz-kaleidoscope-patterns-in-nature-and-so
 ciety
END:VEVENT
END:VCALENDAR
