BEGIN:VCALENDAR
VERSION:2.0
PRODID:-//https://kmu-digital.eu///NONSGML kigkonsult.se iCalcreator 2.10.15//
METHOD:PUBLISH
BEGIN:VEVENT
UID:20260421T105602CEST-7906zNv2fr@https://kmu-digital.eu/
DTSTAMP:20260421T085602Z
DESCRIPTION:Ein Kaleidoskop erinnert an wechselnde Muster. Es vermittelt di
 e Idee\, dass Muster aus vielen Dingen entstehen und von diesen beeinfluss
 t werden können\, die mit unserer Perspektive variieren und sich im Laufe 
 der Zeit ändern.\nTEDx ist ein Programm mit lokalen\, sebstorganisierten V
 eranstaltungen\, welches Leute zusammenbringt.\nAgenda:&nbsp\;\nMusic thro
 ugh a new lens: mathematical and cross-cultural patternsTalk 1: Hubl Grein
 er and Mohamed Badawi – Bridging cultures through music interchangeTalk 2:
  Jürgen Richter-Gebert – Seeing music through the eyes of math\nPartner de
 r diesjährigen Veranstaltung ist cyberLago.\nWeitere Informationen zur Ver
 anstaltung finden Sie Hier. https://kmu-digital.eu/de/service-kompetenz/ve
 ranstaltungen/veranstaltungskalender/event/2145-tedxkonstanz-kaleidoscope-
 patterns-in-nature-and-society
DTSTART:20210303T160000Z
DTEND:20210303T170000Z
LOCATION: Online an Ihrem PC oder Laptop ()
SUMMARY:TEDxKonstanz: Kaleidoscope – Patterns in Nature and Society
URL:https://kmu-digital.eu/de/service-kompetenz/veranstaltungen/veranstaltu
 ngskalender/event/2145-tedxkonstanz-kaleidoscope-patterns-in-nature-and-so
 ciety
END:VEVENT
END:VCALENDAR
