BEGIN:VCALENDAR
VERSION:2.0
PRODID:-//https://kmu-digital.eu///NONSGML kigkonsult.se iCalcreator 2.10.15//
METHOD:PUBLISH
BEGIN:VEVENT
UID:20260421T092901CEST-4818UMH2UJ@https://kmu-digital.eu/
DTSTAMP:20260421T072901Z
DESCRIPTION:Ein Kaleidoskop erinnert an wechselnde Muster. Es vermittelt di
 e Idee\, dass Muster aus vielen Dingen entstehen und von diesen beeinfluss
 t werden können\, die mit unserer Perspektive variieren und sich im Laufe 
 der Zeit ändern.\nTEDx ist ein Programm mit lokalen\, sebstorganisierten V
 eranstaltungen\, welches Leute zusammenbringt.\nAgenda:&nbsp\;\nTalk 1:&nb
 sp\;Xavi Bou&nbsp\;– Revealing the hidden beauty of bird flightTalk 2:&nbs
 p\;Liat Grayver&nbsp\;– Digital and robotic technologies as tools for aest
 hetic and cultural emancipation\nPartner der diesjährigen Veranstaltung is
 t cyberLago.\nWeitere Informationen zur Veranstaltung finden Sie Hier. htt
 ps://kmu-digital.eu/de/service-kompetenz/veranstaltungen/veranstaltungskal
 ender/event/2144-tedxkonstanz-kaleidoscope-patterns-in-nature-and-society
DTSTART:20210302T160000Z
DTEND:20210302T170000Z
LOCATION: Online an Ihrem PC oder Laptop ()
SUMMARY:TEDxKonstanz: Kaleidoscope – Patterns in Nature and Society
URL:https://kmu-digital.eu/de/service-kompetenz/veranstaltungen/veranstaltu
 ngskalender/event/2144-tedxkonstanz-kaleidoscope-patterns-in-nature-and-so
 ciety
END:VEVENT
END:VCALENDAR
