BEGIN:VCALENDAR
VERSION:2.0
PRODID:-//https://kmu-digital.eu///NONSGML kigkonsult.se iCalcreator 2.10.15//
METHOD:PUBLISH
BEGIN:VEVENT
UID:20260421T092345CEST-63277Ltlrz@https://kmu-digital.eu/
DTSTAMP:20260421T072345Z
DESCRIPTION:Wie können flexible Homeoffice-Lösungen geschaffen werden? Welc
 he technischen Anforderungen müssen erfüllt sein\, um IT-Sicherheit im Hom
 eoffice vollständig umsetzen zu können? Wie sehen sichere Konzepte aus\, u
 m auf Daten und Programme in der Firma zuzugreifen\, und wo finde ich die 
 passende Unterstützung für diese Möglichkeiten? Diese und weitere Fragen w
 erden beim digitalen cyberTREFF beantwortet.\nFür die Teilnahme ist ein Co
 mputer\, Tablet oder Smartphone mit Internetverbindung und Ton (Lautsprech
 er)\, Kamera und Mikrofon notwendig.\nDie Teilnahme ist kostenlos\, eine A
 nmeldung ist erforderlich.\nAnmeldeformular https://kmu-digital.eu/de/serv
 ice-kompetenz/veranstaltungen/veranstaltungskalender/event/2139-cybertreff
 -digital-moderne-loesungen-der-informationssicherheit-im-homeoffice
DTSTART:20210303T150000Z
DTEND:20210303T163000Z
LOCATION: Online an Ihrem PC oder Laptop ()
SUMMARY:cyberTREFF digital: Moderne Lösungen der Informationssicherheit im 
 Homeoffice
URL:https://kmu-digital.eu/de/service-kompetenz/veranstaltungen/veranstaltu
 ngskalender/event/2139-cybertreff-digital-moderne-loesungen-der-informatio
 nssicherheit-im-homeoffice
END:VEVENT
END:VCALENDAR
