BEGIN:VCALENDAR
VERSION:2.0
PRODID:-//https://kmu-digital.eu///NONSGML kigkonsult.se iCalcreator 2.10.15//
METHOD:PUBLISH
BEGIN:VEVENT
UID:20260421T104318CEST-7236XKMV5U@https://kmu-digital.eu/
DTSTAMP:20260421T084318Z
DESCRIPTION:Künstliche Intelligenz (KI) ist dabei\, die Spielregeln der Cyb
 ersicherheit zu verändern: Sie kann Cyberbedrohungen vermehren\, diese qua
 litativ verändern und neue\, noch unbekannte Bedrohungen hervorbringen. Gl
 eichzeitig schafft KI ganz neue Möglichkeiten der Verteidigung von Cyberan
 griffen. Dabei ist eine ganzheitliche Sicht auf die Cybersicherheit von Or
 ganisationen erforderlich\, in der KI mit menschlicher Einsicht kombiniert
  wird. In diesem Webinar wird zunächst ein Einblick in die Möglichkeiten u
 nd Grenzen einer AI Security gegeben. Drei innovative Startups aus Israel 
 zeigen anschließend innovative Technologien\, die KI und Cybersicherheit v
 erbinden.\nArtificial Intelligence for Smarter Cybersecurity ist eine geme
 insame Veranstaltung der Deutsch-Israelischen Industrie- und Handelskammer
  (AHK Israel) im Auftrag des Ministerium für Wirtschaft\, Arbeit und Wohnu
 ngsbau\, des Zukunftsfond Heilbronn (ZFHN)\, sowie von cyberLAGO und des P
 rojekts KI-Lab Bodensee.\nDie Teilnahme ist kostenlos\, eine Anmeldung ist
  erforderlich.\nAnmeldung:www.podio.com https://kmu-digital.eu/de/service-
 kompetenz/veranstaltungen/veranstaltungskalender/event/2126-artificial-int
 elligence-for-smarter-cybersecurity
DTSTART:20210217T150000Z
DTEND:20210217T170000Z
LOCATION: Online an Ihrem PC oder Laptop ()
SUMMARY:Artificial Intelligence for Smarter Cybersecurity
URL:https://kmu-digital.eu/de/service-kompetenz/veranstaltungen/veranstaltu
 ngskalender/event/2126-artificial-intelligence-for-smarter-cybersecurity
END:VEVENT
END:VCALENDAR
