BEGIN:VCALENDAR
VERSION:2.0
PRODID:-//https://kmu-digital.eu///NONSGML kigkonsult.se iCalcreator 2.10.15//
METHOD:PUBLISH
BEGIN:VEVENT
UID:20260421T105603CEST-36729TdT16@https://kmu-digital.eu/
DTSTAMP:20260421T085603Z
DESCRIPTION:Was steckt hinter dem Bitcoin? Alles nur Schall und Rauch\, ode
 r handelt es sich hier tatsächlich um die grösste Revolution der Finanzges
 chichte? Im Kurzvortrag von Marc Steiner nimmt er uns mit auf die 12-Jähri
 ge Reise von Bitcoin und zeigt auf\, was wirklich dahinter steckt.\nDie An
 meldung für das Webinar erfolgt über die&nbsp\;Swiss Mechatronics Homepage
 \, die Teilnahme ist kostenfrei.\nAnmeldung: Anmeldeformular https://kmu-d
 igital.eu/de/service-kompetenz/veranstaltungen/veranstaltungskalender/even
 t/2121-swiss-mechatronics-talk-bitcoin-was-steckt-hinter-dem-krypto-hype
DTSTART:20210202T120000Z
DTEND:20210202T122500Z
LOCATION: Online an Ihrem PC oder Laptop ()
SUMMARY:Swiss Mechatronics Talk: 'Bitcoin - was steckt hinter dem Krypto-Hy
 pe?'
URL:https://kmu-digital.eu/de/service-kompetenz/veranstaltungen/veranstaltu
 ngskalender/event/2121-swiss-mechatronics-talk-bitcoin-was-steckt-hinter-d
 em-krypto-hype
END:VEVENT
END:VCALENDAR
