BEGIN:VCALENDAR
VERSION:2.0
PRODID:-//https://kmu-digital.eu///NONSGML kigkonsult.se iCalcreator 2.10.15//
METHOD:PUBLISH
BEGIN:VEVENT
UID:20260421T134236CEST-5174USkc6k@https://kmu-digital.eu/
DTSTAMP:20260421T114236Z
DESCRIPTION:\n\nDie Globalisierung schreitet immer weiter voran\, sodass de
 r Schritt ins Ausland stets näher zu kommen scheint. Philip Morger kennt d
 ie Herausforderungen für Exporteinsteiger und liefert handfeste Insights z
 u den folgenden Punkten:\n\nWo beginnen: Den richtige Markt finden\nBin ic
 h bereit für den Export? Die richtigen Fragen zur internationalen Expansio
 n\nDer erste Schritt: Mögliche Wege für den Markteintritt\nStolperfallen: 
 Diese Fehler kannst Du vermeiden\nUnterstützungsmöglichkeiten: Anlaufstell
 en für den Schritt ins Ausland\nErfahrungsbericht eines Unternehmens aus d
 er Ostschweiz\n\nInput:&nbsp\;Philip Morger\,&nbsp\;Switzerland Global Ent
 erprise\n\n\n\n\nDatum:&nbsp\;Do.\, 10. Dezember 2020Zeit:&nbsp\;16.15 – 1
 7.15 UhrOrt:&nbsp\;WebinarKosten:&nbsp\;keineAnmeldung: erforderlich&nbsp\
 ;\nWeitere Informationen zu der Veranstaltung finden Sie auf der Website v
 on Startfeld.\n\n https://kmu-digital.eu/de/service-kompetenz/veranstaltun
 gen/veranstaltungskalender/event/2011-going-global-der-verkauf-im-ausland-
 als-schritt-nach-vorne
DTSTART:20201210T151500Z
DTEND:20201210T161500Z
LOCATION: Online an Ihrem PC oder Laptop ()
SUMMARY:Going Global – Der Verkauf im Ausland als Schritt nach vorne
URL:https://kmu-digital.eu/de/service-kompetenz/veranstaltungen/veranstaltu
 ngskalender/event/2011-going-global-der-verkauf-im-ausland-als-schritt-nac
 h-vorne
END:VEVENT
END:VCALENDAR
