BEGIN:VCALENDAR
VERSION:2.0
PRODID:-//https://kmu-digital.eu///NONSGML kigkonsult.se iCalcreator 2.10.15//
METHOD:PUBLISH
BEGIN:VEVENT
UID:20260421T175026CEST-0847jVAf9M@https://kmu-digital.eu/
DTSTAMP:20260421T155026Z
DESCRIPTION:Die Bitzilla&nbsp\;Conference 2020\, die für den 12.11.20 gepla
 nt war\, muss leider abgesagt werden. Der Bitzilla Brunch findet aber stat
 t - virtuell. \nNach eigehender Betrachtung und Abwägung&nbsp\;unterschied
 licher Möglichkeiten musste die Konfernez abgesagt werden. Warum?&nbsp\;Di
 e&nbsp\;Bitzilla&nbsp\;Conference steht für&nbsp\;die Begegnung\, das Netz
 werken\, das Erleben des Events und die&nbsp\;Digitalisierung&nbsp\;–&nbsp
 \;spürbar und vor Ort!&nbsp\;Dies will Bitzilla konsequent weiterführen un
 d Ihnen wieder&nbsp\;ein unvergessliches&nbsp\;Bitzilla&nbsp\;Event&nbsp\;
 im Jahr 2021&nbsp\;bieten:&nbsp\;Vor Ort – Digital –&nbsp\;Gemeinsam!&nbsp
 \;\n&nbsp\;\nVirtuell&nbsp\;und kostenfrei: Der Bitzilla&nbsp\;Brunch!&nbs
 p\;\nBis dahin will Bitzilla Ihnen die Wartezeit verkürzen und Ihnen mit a
 usreichend digitalem Zündstoff versorgen. Bereits die vergangenen beiden&n
 bsp\;Bitzilla&nbsp\;Brunches wurden virtuell durchgeführt. Sie werden von 
 nun an&nbsp\;immer&nbsp\;die Möglichkeit haben\,&nbsp\;virtuell und kosten
 frei am&nbsp\;Bitzilla&nbsp\;Brunch teilzunehmen – sowohl&nbsp\;über den B
 ildschirm&nbsp\;als auch&nbsp\;baldmöglichst&nbsp\;wieder in&nbsp\;unserem
  Medienhaus! \nThema:&nbsp\;Meet&nbsp\;Digital Transformation&nbsp\;Insigh
 ts&nbsp\;\nSie können sich für den Brunch unter conference.bitzilla.de anm
 elden: Im Anmeldeformular registrieren und spätestens 1 Woche nach&nbsp\;A
 nmeldung&nbsp\;alle Informationen rund um&nbsp\;unseren digitalen Bitzilla
  Brunch ins E-Mail Postfach bekommen.\nSie haben auch die Möglichkeit ein 
 ca. 20-minütiges Impulsreferat zu halten.\n https://kmu-digital.eu/de/serv
 ice-kompetenz/veranstaltungen/veranstaltungskalender/event/1970-bitzilla-b
 runch
DTSTART:20200917T070000Z
DTEND:20200917T084500Z
LOCATION: Online an Ihrem PC oder Laptop ()
SUMMARY:Bitzilla Brunch
URL:https://kmu-digital.eu/de/service-kompetenz/veranstaltungen/veranstaltu
 ngskalender/event/1970-bitzilla-brunch
END:VEVENT
END:VCALENDAR
