BEGIN:VCALENDAR
VERSION:2.0
PRODID:-//https://kmu-digital.eu///NONSGML kigkonsult.se iCalcreator 2.10.15//
METHOD:PUBLISH
BEGIN:VEVENT
UID:20260420T193801CEST-2600C2K738@https://kmu-digital.eu/
DTSTAMP:20260420T173801Z
DESCRIPTION:Für Ostschweizer Industrieunternehmen ist das OTS bereits seit 
 19 Jahren eine willkommene Plattform um sich zu aktuellen Technologietheme
 n auszutauschen. Spannende Vorträge\, fachkundige Referenten und eine Tisc
 hmesse mit über 50 Ausstellern sorgen für den erwünschten Wissenstransfer 
 und begeistertes Networking der Teilnehmer. 2019 durfte das Ostschweizer T
 echnologiesymposium OTS über 300 Besucher begrüssen – ein Rekord!&nbsp\;We
 gen der Coronakrise wurde die 20. Auflage von PTV als Organisator zusammen
  mit dem OK auf Freitag\, 24. September 2021 in der Olma Halle 2.1\, St. G
 allen verlegt.\nWeitere Inforamtionen zu der Veranstaltung und Anmeldung f
 inden Sie unter technologiesymposium.ch.\nAnmeldeschluss ist&nbsp\; Montag
 \, 20. September 2021. Die Teilnehmerzahl ist beschränkt. Die Anmeldungen 
 werden in der Reihenfolge des Eingangs berücksichtigt.\nDie Veranstaltung 
 kostet CHF 290.-. Tagesunterlagen und Verpflegung sind im Preis inbegriffe
 n. Es werden keine Eintrittskarten ausgegeben. Als Legitimation gilt das N
 amensschild\, welches am Veranstaltungstag vom Empfang ausgegeben wird. ht
 tps://kmu-digital.eu/de/service-kompetenz/veranstaltungen/veranstaltungska
 lender/event/1944-jubilaeumsveranstaltung-des-20-ostschweizer-technologies
 ymposiums-ots
DTSTART;VALUE=DATE:20210924
LOCATION:Olma Halle 2.1 St.Gallen (Splügenstrasse 12\, 9008 St. Gallen\, Sc
 hweiz)
SUMMARY:Jubiläumsveranstaltung des 20. Ostschweizer Technologiesymposiums O
 TS
URL:https://kmu-digital.eu/de/service-kompetenz/veranstaltungen/veranstaltu
 ngskalender/event/1944-jubilaeumsveranstaltung-des-20-ostschweizer-technol
 ogiesymposiums-ots
END:VEVENT
END:VCALENDAR
