BEGIN:VCALENDAR
VERSION:2.0
PRODID:-//https://kmu-digital.eu///NONSGML kigkonsult.se iCalcreator 2.10.15//
METHOD:PUBLISH
BEGIN:VEVENT
UID:20260421T163757CEST-9798P7sGKd@https://kmu-digital.eu/
DTSTAMP:20260421T143757Z
DESCRIPTION:Die Veranstaltung richtet sich an interessierte Unternehmer und
  Entscheider\, welche die Digitalisierung in ihren Unternehmen umsetzen mö
 chten. Besucherinnen und Besucher haben die Möglichkeit\, neue Technologie
 n und Tools kennenzulernen und deren praktische Anwendung zu diskutieren. 
 Treten Sie in einen interaktiven Kontakt mit Professoren der HSR und nutze
 n Sie die Gelegenheit sich auszutauschen\, vorhandene Kontakte zu pflegen 
 und neue zu knüpfen.\nDas Digitalisierungsfrühstück findet im Jahr 2020 dr
 ei Mal statt. 17. März 2020:&nbsp\;&nbsp\;&nbsp\;&nbsp\;&nbsp\;&nbsp\;&nbs
 p\;&nbsp\;&nbsp\;&nbsp\; Der Anlass steht unter dem Motto «Cobots in der M
 ontage»\n23. Juni 2020: &nbsp\; &nbsp\; &nbsp\; &nbsp\; &nbsp\;&nbsp\; Der
  Anlass steht unter dem Motto «Augmented Reality im Service»\n27. Oktober 
 2020:&nbsp\;&nbsp\;&nbsp\;&nbsp\;&nbsp\; Der Anlass steht unter dem Motto 
 «Drohnen in der Logistik» https://kmu-digital.eu/de/service-kompetenz/vera
 nstaltungen/veranstaltungskalender/event/1839-digitalisierungsfruehstueck-
 2020
DTSTART:20200317T073000Z
DTEND:20200317T093000Z
LOCATION:Hochschule für Technik in Rapperswil (Oberseestrasse 10\, 8640 Rap
 perswil-Jona\, Schweiz)
SUMMARY:Digitalisierungsfrühstück 2020
URL:https://kmu-digital.eu/de/service-kompetenz/veranstaltungen/veranstaltu
 ngskalender/event/1839-digitalisierungsfruehstueck-2020
END:VEVENT
END:VCALENDAR
