BEGIN:VCALENDAR
VERSION:2.0
PRODID:-//https://kmu-digital.eu///NONSGML kigkonsult.se iCalcreator 2.10.15//
METHOD:PUBLISH
BEGIN:VEVENT
UID:20260422T163434CEST-6254KE3WDu@https://kmu-digital.eu/
DTSTAMP:20260422T143434Z
DESCRIPTION:Vom 12. bis 18. August 2019 sind Sie für eine Woche in der Stad
 t Zürich und nehmen die Besucher mit auf eine Reise in bekannte und unbeka
 nnte Welten.&nbsp\;\nEgal ob man in die Tiefen der Meere abtaucht\, mit de
 n Sherpas die höchsten Gipfel erklimmt oder durch eine angsteinflössende W
 aldlandschaft «läuft» – mit dem VROpenair von WeAreCinema ist ein einmalig
 es Kino-Erlebnis mit Hühnerhauteffekt garantiert.Tickets sind hier erhältl
 ich. https://kmu-digital.eu/de/service-kompetenz/veranstaltungen/veranstal
 tungskalender/event/1563-vr-openair-zuerich
DTSTART;VALUE=DATE:20190812
LOCATION:Lakeside Zürich (Bellerivestrasse 170\, 8008 Zürich\, Schweiz)
SUMMARY:VR Openair Zürich
URL:https://kmu-digital.eu/de/service-kompetenz/veranstaltungen/veranstaltu
 ngskalender/event/1563-vr-openair-zuerich
END:VEVENT
END:VCALENDAR
