BEGIN:VCALENDAR
VERSION:2.0
PRODID:-//https://kmu-digital.eu///NONSGML kigkonsult.se iCalcreator 2.10.15//
METHOD:PUBLISH
BEGIN:VEVENT
UID:20260423T101121CEST-3083fkGTr6@https://kmu-digital.eu/
DTSTAMP:20260423T081121Z
DESCRIPTION:Vom 5. bis 11. August 2019 sind Sie für eine Woche in der Stadt
  St. Gallen und nehmen die Besucher mit auf eine Reise in bekannte und unb
 ekannte Welten.&nbsp\;\nEgal ob man in die Tiefen der Meere abtaucht\, mit
  den Sherpas die höchsten Gipfel erklimmt oder durch eine angsteinflössend
 e Waldlandschaft «läuft» – mit dem VROpenair von WeAreCinema ist ein einma
 liges Kino-Erlebnis mit Hühnerhauteffekt garantiert.Tickets sind hier erhä
 ltlich.\n&nbsp\;\n&nbsp\; https://kmu-digital.eu/de/service-kompetenz/vera
 nstaltungen/veranstaltungskalender/event/1562-vr-openair-st-gallen
DTSTART:20190805T170000Z
DTEND:20190811T203000Z
LOCATION:Stripped Pizza\, St. Gallen  (Unterer Graben 1\, 9000 St. Gallen\,
  Schweiz)
SUMMARY:VR Openair St.Gallen
URL:https://kmu-digital.eu/de/service-kompetenz/veranstaltungen/veranstaltu
 ngskalender/event/1562-vr-openair-st-gallen
END:VEVENT
END:VCALENDAR
